BEGIN:VCALENDAR
VERSION:2.0
PRODID:-//Ministerio de Hacienda de la República de El Salvador - ECPv5.3.2.1//NONSGML v1.0//EN
CALSCALE:GREGORIAN
METHOD:PUBLISH
X-WR-CALNAME:Ministerio de Hacienda de la República de El Salvador
X-ORIGINAL-URL:https://www.mh.gob.sv
X-WR-CALDESC:Eventos para Ministerio de Hacienda de la República de El Salvador
BEGIN:VTIMEZONE
TZID:America/El_Salvador
BEGIN:STANDARD
TZOFFSETFROM:-0600
TZOFFSETTO:-0600
TZNAME:CST
DTSTART:20260101T000000
END:STANDARD
END:VTIMEZONE
BEGIN:VEVENT
DTSTART;VALUE=DATE:20260624
DTEND;VALUE=DATE:20260627
DTSTAMP:20260421T054848
CREATED:20260306T140803Z
LAST-MODIFIED:20260306T210630Z
UID:14018-1782259200-1782518399@www.mh.gob.sv
SUMMARY:Seminario de Presupuesto por Áreas de Gestión para entidades del Sector Municipal.
DESCRIPTION:Seminario de Presupuesto por Áreas de Gestión para entidades del Sector Municipal. \nDocumentos relacionados con capacitación 2026: \n\n\n\nCircular 01-2026 lineamiento para capacitaciones en modalidad presencial\nCircular 03/2020-Lineamientos Para Capacitaciones en Modalidad Virtual\nCarta compromiso de participante en curso virtual de Contabilidad Gubernamental – word\nCarta compromiso de participante en curso virtual de Contabilidad Gubernamental – pdf\nFicha del participante Curso de Contabilidad Gubernamental – word\nFicha del participante Curso de Contabilidad Gubernamental – pdf
URL:/event/seminario-de-presupuesto-por-areas-de-gestion-para-entidades-del-sector-municipal-5/
LOCATION:Centro de Formación\, DGCG\, Soyapango\, El Salvador
CATEGORIES:Capacitación
END:VEVENT
END:VCALENDAR