BEGIN:VCALENDAR
VERSION:2.0
PRODID:-//Ministerio de Hacienda de la República de El Salvador - ECPv5.3.2.1//NONSGML v1.0//EN
CALSCALE:GREGORIAN
METHOD:PUBLISH
X-WR-CALNAME:Ministerio de Hacienda de la República de El Salvador
X-ORIGINAL-URL:https://www.mh.gob.sv
X-WR-CALDESC:Eventos para Ministerio de Hacienda de la República de El Salvador
BEGIN:VTIMEZONE
TZID:America/El_Salvador
BEGIN:STANDARD
TZOFFSETFROM:-0600
TZOFFSETTO:-0600
TZNAME:CST
DTSTART:20260101T000000
END:STANDARD
END:VTIMEZONE
BEGIN:VEVENT
DTSTART;VALUE=DATE:20261103
DTEND;VALUE=DATE:20261104
DTSTAMP:20260425T065337
CREATED:20251208T135456Z
LAST-MODIFIED:20251208T135455Z
UID:13766-1793664000-1793750399@www.mh.gob.sv
SUMMARY:Obligaciones Tributarias
DESCRIPTION:OTRAS OBLIGACIONES: \n\nDictamen de Ley de Servicios Internacionales (Primer Semestre 2026). (F-455).
URL:/event/obligaciones-tributarias-145/
LOCATION:Todo el país\, El Salvador
CATEGORIES:Calendario Tributario
ORGANIZER;CN="Direcci%C3%B3n%20General%20de%20Impuestos%20Internos":MAILTO:asistenciadgii@mh.gob.sv
END:VEVENT
END:VCALENDAR