BEGIN:VCALENDAR
VERSION:2.0
PRODID:-//Ministerio de Hacienda de la República de El Salvador - ECPv5.3.2.1//NONSGML v1.0//EN
CALSCALE:GREGORIAN
METHOD:PUBLISH
X-WR-CALNAME:Ministerio de Hacienda de la República de El Salvador
X-ORIGINAL-URL:https://www.mh.gob.sv
X-WR-CALDESC:Eventos para Ministerio de Hacienda de la República de El Salvador
BEGIN:VTIMEZONE
TZID:America/El_Salvador
BEGIN:STANDARD
TZOFFSETFROM:-0600
TZOFFSETTO:-0600
TZNAME:CST
DTSTART:20260101T000000
END:STANDARD
END:VTIMEZONE
BEGIN:VEVENT
DTSTART;VALUE=DATE:20260601
DTEND;VALUE=DATE:20260602
DTSTAMP:20260421T045752
CREATED:20251205T203457Z
LAST-MODIFIED:20251205T203452Z
UID:13732-1780272000-1780358399@www.mh.gob.sv
SUMMARY:Obligaciones Tributarias
DESCRIPTION:TRAS OBLIGACIONES: \n\nDictamen e Informe Fiscal bajo el Código Tributario correspondiente al ejercicio 2025\, de contribuyentes obligados a dictaminarse bajo supuestos económicos (art.131\, literales a) y b)\, Código Tributario) (F-455).\nDictamen e Informe Fiscal\, bajo el Código Tributario correspondiente al ejercicio 2025\, de contribuyentes obligados a dictaminarse bajo supuestos jurídicos (art.131\, literales c) y d)\, Código Tributario) (F-455).\nDictamen de Ley de Servicios Internacionales (Segundo Semestre 2025). (F-455).
URL:/event/obligaciones-tributarias-130/
LOCATION:Todo el país\, El Salvador
CATEGORIES:Calendario Tributario
ORGANIZER;CN="Direcci%C3%B3n%20General%20de%20Impuestos%20Internos":MAILTO:asistenciadgii@mh.gob.sv
END:VEVENT
END:VCALENDAR