BEGIN:VCALENDAR
VERSION:2.0
PRODID:-//Ministerio de Hacienda de la República de El Salvador - ECPv5.3.2.1//NONSGML v1.0//EN
CALSCALE:GREGORIAN
METHOD:PUBLISH
X-WR-CALNAME:Ministerio de Hacienda de la República de El Salvador
X-ORIGINAL-URL:https://www.mh.gob.sv
X-WR-CALDESC:Eventos para Ministerio de Hacienda de la República de El Salvador
BEGIN:VTIMEZONE
TZID:America/El_Salvador
BEGIN:STANDARD
TZOFFSETFROM:-0600
TZOFFSETTO:-0600
TZNAME:CST
DTSTART:20260101T000000
END:STANDARD
END:VTIMEZONE
BEGIN:VEVENT
DTSTART;VALUE=DATE:20260701
DTEND;VALUE=DATE:20260723
DTSTAMP:20260421T055001
CREATED:20260306T141317Z
LAST-MODIFIED:20260306T141316Z
UID:14026-1782864000-1784764799@www.mh.gob.sv
SUMMARY:Jornada para reforzar al personal de las Unidades Financieras del sector público con retroalimentación sobre NICSP del grupo 1 y 2 conformado por: 1\,2\,12\,19\,22\,23\,24\,31 y 45.
DESCRIPTION:Jornada para reforzar al personal de las Unidades Financieras del sector público con retroalimentación sobre NICSP del grupo 1 y 2 conformado por: 1\,2\,12\,19\,22\,23\,24\,31 y 45.
URL:/event/jornada-para-reforzar-al-personal-de-las-unidades-financieras-del-sector-publico-con-retroalimentacion-sobre-nicsp-del-grupo-1-y-2-conformado-por-12121922232431-y-45-2/
LOCATION:Centro de Formación\, DGCG\, Soyapango\, El Salvador
CATEGORIES:Capacitación
END:VEVENT
END:VCALENDAR