BEGIN:VCALENDAR
VERSION:2.0
PRODID:-//Ministerio de Hacienda de la República de El Salvador - ECPv5.3.2.1//NONSGML v1.0//EN
CALSCALE:GREGORIAN
METHOD:PUBLISH
X-WR-CALNAME:Ministerio de Hacienda de la República de El Salvador
X-ORIGINAL-URL:https://www.mh.gob.sv
X-WR-CALDESC:Eventos para Ministerio de Hacienda de la República de El Salvador
BEGIN:VTIMEZONE
TZID:America/El_Salvador
BEGIN:STANDARD
TZOFFSETFROM:-0600
TZOFFSETTO:-0600
TZNAME:CST
DTSTART:20260101T000000
END:STANDARD
END:VTIMEZONE
BEGIN:VEVENT
DTSTART;VALUE=DATE:20261007
DTEND;VALUE=DATE:20261024
DTSTAMP:20260421T052936
CREATED:20260306T141102Z
LAST-MODIFIED:20260306T160927Z
UID:14030-1791331200-1792799999@www.mh.gob.sv
SUMMARY:Jornada para Divulgar al personal de las Unidades Financieras del Sector Público sobre NICSP del grupo 5.
DESCRIPTION:Jornada para Divulgar al personal de las Unidades Financieras del Sector Público sobre NICSP del grupo 5.
URL:/event/jornada-para-divulgar-al-personal-de-las-unidades-financieras-del-sector-publico-sobre-nicsp-del-grupo-5/
LOCATION:Centro de Formación\, DGCG\, Soyapango\, El Salvador
CATEGORIES:Capacitación
END:VEVENT
END:VCALENDAR