BEGIN:VCALENDAR
VERSION:2.0
PRODID:-//Ministerio de Hacienda de la República de El Salvador - ECPv5.3.2.1//NONSGML v1.0//EN
CALSCALE:GREGORIAN
METHOD:PUBLISH
X-WR-CALNAME:Ministerio de Hacienda de la República de El Salvador
X-ORIGINAL-URL:https://www.mh.gob.sv
X-WR-CALDESC:Eventos para Ministerio de Hacienda de la República de El Salvador
BEGIN:VTIMEZONE
TZID:America/El_Salvador
BEGIN:STANDARD
TZOFFSETFROM:-0600
TZOFFSETTO:-0600
TZNAME:CST
DTSTART:20260101T000000
END:STANDARD
END:VTIMEZONE
BEGIN:VEVENT
DTSTART;VALUE=DATE:20260701
DTEND;VALUE=DATE:20260822
DTSTAMP:20260421T054832
CREATED:20260306T141137Z
LAST-MODIFIED:20260306T141137Z
UID:14028-1782864000-1787356799@www.mh.gob.sv
SUMMARY:Curso de Especialización en Contabilidad Gubernamental\, Convenio DGCG - CVPCPA.
DESCRIPTION:Curso de Especialización en Contabilidad Gubernamental\, Convenio DGCG – CVPCPA.
URL:/event/curso-de-especializacion-en-contabilidad-gubernamental-convenio-dgcg-cvpcpa/
LOCATION:Centro de Formación\, DGCG\, Soyapango\, El Salvador
CATEGORIES:Capacitación
END:VEVENT
END:VCALENDAR