BEGIN:VCALENDAR
VERSION:2.0
PRODID:-//Ministerio de Hacienda de la República de El Salvador - ECPv5.3.2.1//NONSGML v1.0//EN
CALSCALE:GREGORIAN
METHOD:PUBLISH
X-WR-CALNAME:Ministerio de Hacienda de la República de El Salvador
X-ORIGINAL-URL:https://www.mh.gob.sv
X-WR-CALDESC:Eventos para Ministerio de Hacienda de la República de El Salvador
BEGIN:VTIMEZONE
TZID:America/El_Salvador
BEGIN:STANDARD
TZOFFSETFROM:-0600
TZOFFSETTO:-0600
TZNAME:CST
DTSTART:20260101T000000
END:STANDARD
END:VTIMEZONE
BEGIN:VEVENT
DTSTART;VALUE=DATE:20260501
DTEND;VALUE=DATE:20260502
DTSTAMP:20260421T045534
CREATED:20251205T204217Z
LAST-MODIFIED:20251205T204217Z
UID:13738-1777593600-1777679999@www.mh.gob.sv
SUMMARY:ASUETO DIA DEL TRABAJO
DESCRIPTION:ASUETO DIA DEL TRABAJO
URL:/event/asueto-dia-del-trabajo-4/
LOCATION:Todo el país\, El Salvador
CATEGORIES:Asueto
END:VEVENT
END:VCALENDAR